BEGIN:VCALENDAR
VERSION:2.0
PRODID:-//DCTS - ECPv6.15.19//NONSGML v1.0//EN
CALSCALE:GREGORIAN
METHOD:PUBLISH
X-WR-CALNAME:DCTS
X-ORIGINAL-URL:https://dcts.org
X-WR-CALDESC:Events for DCTS
REFRESH-INTERVAL;VALUE=DURATION:PT1H
X-Robots-Tag:noindex
X-PUBLISHED-TTL:PT1H
BEGIN:VTIMEZONE
TZID:America/New_York
BEGIN:DAYLIGHT
TZOFFSETFROM:-0500
TZOFFSETTO:-0400
TZNAME:EDT
DTSTART:20240310T070000
END:DAYLIGHT
BEGIN:STANDARD
TZOFFSETFROM:-0400
TZOFFSETTO:-0500
TZNAME:EST
DTSTART:20241103T060000
END:STANDARD
BEGIN:DAYLIGHT
TZOFFSETFROM:-0500
TZOFFSETTO:-0400
TZNAME:EDT
DTSTART:20250309T070000
END:DAYLIGHT
BEGIN:STANDARD
TZOFFSETFROM:-0400
TZOFFSETTO:-0500
TZNAME:EST
DTSTART:20251102T060000
END:STANDARD
BEGIN:DAYLIGHT
TZOFFSETFROM:-0500
TZOFFSETTO:-0400
TZNAME:EDT
DTSTART:20260308T070000
END:DAYLIGHT
BEGIN:STANDARD
TZOFFSETFROM:-0400
TZOFFSETTO:-0500
TZNAME:EST
DTSTART:20261101T060000
END:STANDARD
END:VTIMEZONE
BEGIN:VEVENT
DTSTART;TZID=America/New_York:20251004T130000
DTEND;TZID=America/New_York:20251004T160000
DTSTAMP:20260425T172331
CREATED:20250915T171921Z
LAST-MODIFIED:20250915T171921Z
UID:16800-1759582800-1759593600@dcts.org
SUMMARY:6th Annual Alex's Chili Cook-Off for a Cause
DESCRIPTION:Chili-Cook-off-Flyer-2025
URL:https://dcts.org/events/6th-annual-alexs-chili-cook-off-for-a-cause/
LOCATION:Range & Rye\, 303 Golf Club Avenue\, Dillsburg\, 17019\, United States
END:VEVENT
BEGIN:VEVENT
DTSTART;TZID=America/New_York:20251008T190000
DTEND;TZID=America/New_York:20251008T200000
DTSTAMP:20260425T172331
CREATED:20250822T114837Z
LAST-MODIFIED:20250822T114837Z
UID:16719-1759950000-1759953600@dcts.org
SUMMARY:JOC Meeting
DESCRIPTION:
URL:https://dcts.org/events/joc-meeting-5/
LOCATION:Dauphin County Technical School Cafeteria
END:VEVENT
BEGIN:VEVENT
DTSTART;VALUE=DATE:20251013
DTEND;VALUE=DATE:20251014
DTSTAMP:20260425T172331
CREATED:20250822T112854Z
LAST-MODIFIED:20250822T112854Z
UID:16690-1760313600-1760399999@dcts.org
SUMMARY:No School - Columbus Day
DESCRIPTION:
URL:https://dcts.org/events/no-school-columbus-day/
END:VEVENT
BEGIN:VEVENT
DTSTART;VALUE=DATE:20251027
DTEND;VALUE=DATE:20251031
DTSTAMP:20260425T172331
CREATED:20250822T112927Z
LAST-MODIFIED:20250822T112927Z
UID:16692-1761523200-1761868799@dcts.org
SUMMARY:Middle School Tours
DESCRIPTION:
URL:https://dcts.org/events/middle-school-tours/
END:VEVENT
BEGIN:VEVENT
DTSTART;VALUE=DATE:20251031
DTEND;VALUE=DATE:20251101
DTSTAMP:20260425T172331
CREATED:20250822T112947Z
LAST-MODIFIED:20250822T112947Z
UID:16694-1761868800-1761955199@dcts.org
SUMMARY:End of Marking Period
DESCRIPTION:
URL:https://dcts.org/events/end-of-marking-period/
END:VEVENT
END:VCALENDAR