BEGIN:VCALENDAR
VERSION:2.0
PRODID:-//DCTS - ECPv6.15.19//NONSGML v1.0//EN
CALSCALE:GREGORIAN
METHOD:PUBLISH
X-WR-CALNAME:DCTS
X-ORIGINAL-URL:https://dcts.org
X-WR-CALDESC:Events for DCTS
REFRESH-INTERVAL;VALUE=DURATION:PT1H
X-Robots-Tag:noindex
X-PUBLISHED-TTL:PT1H
BEGIN:VTIMEZONE
TZID:America/New_York
BEGIN:DAYLIGHT
TZOFFSETFROM:-0500
TZOFFSETTO:-0400
TZNAME:EDT
DTSTART:20200308T070000
END:DAYLIGHT
BEGIN:STANDARD
TZOFFSETFROM:-0400
TZOFFSETTO:-0500
TZNAME:EST
DTSTART:20201101T060000
END:STANDARD
BEGIN:DAYLIGHT
TZOFFSETFROM:-0500
TZOFFSETTO:-0400
TZNAME:EDT
DTSTART:20210314T070000
END:DAYLIGHT
BEGIN:STANDARD
TZOFFSETFROM:-0400
TZOFFSETTO:-0500
TZNAME:EST
DTSTART:20211107T060000
END:STANDARD
BEGIN:DAYLIGHT
TZOFFSETFROM:-0500
TZOFFSETTO:-0400
TZNAME:EDT
DTSTART:20220313T070000
END:DAYLIGHT
BEGIN:STANDARD
TZOFFSETFROM:-0400
TZOFFSETTO:-0500
TZNAME:EST
DTSTART:20221106T060000
END:STANDARD
END:VTIMEZONE
BEGIN:VEVENT
DTSTART;TZID=America/New_York:20211207T150000
DTEND;TZID=America/New_York:20211207T200000
DTSTAMP:20260426T002301
CREATED:20211119T170325Z
LAST-MODIFIED:20211119T170530Z
UID:7121-1638889200-1638907200@dcts.org
SUMMARY:School Store Parent Night
DESCRIPTION:
URL:https://dcts.org/events/school-store-parent-night/
END:VEVENT
BEGIN:VEVENT
DTSTART;VALUE=DATE:20211125
DTEND;VALUE=DATE:20211126
DTSTAMP:20260426T002301
CREATED:20210816T192830Z
LAST-MODIFIED:20210816T192830Z
UID:5965-1637798400-1637884799@dcts.org
SUMMARY:Thanksgiving Holiday - No School
DESCRIPTION:
URL:https://dcts.org/events/thanksgiving-holiday-no-school-2/
END:VEVENT
BEGIN:VEVENT
DTSTART;VALUE=DATE:20211111
DTEND;VALUE=DATE:20211112
DTSTAMP:20260426T002301
CREATED:20210816T192742Z
LAST-MODIFIED:20210816T192742Z
UID:5961-1636588800-1636675199@dcts.org
SUMMARY:Veteran's Day Holiday - No School
DESCRIPTION:
URL:https://dcts.org/events/veterans-day-holiday-no-school/
END:VEVENT
BEGIN:VEVENT
DTSTART;VALUE=DATE:20211011
DTEND;VALUE=DATE:20211012
DTSTAMP:20260426T002301
CREATED:20210816T192600Z
LAST-MODIFIED:20210816T192600Z
UID:5954-1633910400-1633996799@dcts.org
SUMMARY:Columbus Day Holiday - No School
DESCRIPTION:
URL:https://dcts.org/events/columbus-day-holiday-no-school/
END:VEVENT
BEGIN:VEVENT
DTSTART;VALUE=DATE:20210906
DTEND;VALUE=DATE:20210907
DTSTAMP:20260426T002301
CREATED:20210816T191858Z
LAST-MODIFIED:20210816T191858Z
UID:5950-1630886400-1630972799@dcts.org
SUMMARY:Labor Day Holiday - No School
DESCRIPTION:
URL:https://dcts.org/events/labor-day-holiday-no-school-2/
END:VEVENT
BEGIN:VEVENT
DTSTART;VALUE=DATE:20210903
DTEND;VALUE=DATE:20210904
DTSTAMP:20260426T002301
CREATED:20210816T191831Z
LAST-MODIFIED:20210816T191831Z
UID:5948-1630627200-1630713599@dcts.org
SUMMARY:Labor Day Holiday - No School
DESCRIPTION:
URL:https://dcts.org/events/labor-day-holiday-no-school/
END:VEVENT
BEGIN:VEVENT
DTSTART;VALUE=DATE:20210831
DTEND;VALUE=DATE:20210901
DTSTAMP:20260426T002301
CREATED:20210416T225430Z
LAST-MODIFIED:20210816T151111Z
UID:4705-1630368000-1630454399@dcts.org
SUMMARY:First 11th and 12th Grade Day (All Students Attend)
DESCRIPTION:
URL:https://dcts.org/events/new-event/
CATEGORIES:NEW
END:VEVENT
BEGIN:VEVENT
DTSTART;VALUE=DATE:20210830
DTEND;VALUE=DATE:20210831
DTSTAMP:20260426T002301
CREATED:20210816T150745Z
LAST-MODIFIED:20210816T151101Z
UID:5934-1630281600-1630367999@dcts.org
SUMMARY:First 9th and 10th Grade Day (9th and 10th Only)
DESCRIPTION:
URL:https://dcts.org/events/first-student-day-9th-and-10th-only/
END:VEVENT
BEGIN:VEVENT
DTSTART;TZID=America/New_York:20210826T150000
DTEND;TZID=America/New_York:20210826T193000
DTSTAMP:20260426T002301
CREATED:20210817T114904Z
LAST-MODIFIED:20210817T114904Z
UID:5946-1629990000-1630006200@dcts.org
SUMMARY:New Student Orientation
DESCRIPTION:All incoming 9th grade students and all transfer students are invited to attend our back to school orientation. Come learn what to expect from your DCTS experience and pick up your school-issued laptops.
URL:https://dcts.org/events/new-student-orientation/
END:VEVENT
END:VCALENDAR