BEGIN:VCALENDAR
VERSION:2.0
PRODID:-//DCTS - ECPv6.15.19//NONSGML v1.0//EN
CALSCALE:GREGORIAN
METHOD:PUBLISH
X-WR-CALNAME:DCTS
X-ORIGINAL-URL:https://dcts.org
X-WR-CALDESC:Events for DCTS
REFRESH-INTERVAL;VALUE=DURATION:PT1H
X-Robots-Tag:noindex
X-PUBLISHED-TTL:PT1H
BEGIN:VTIMEZONE
TZID:America/New_York
BEGIN:DAYLIGHT
TZOFFSETFROM:-0500
TZOFFSETTO:-0400
TZNAME:EDT
DTSTART:20210314T070000
END:DAYLIGHT
BEGIN:STANDARD
TZOFFSETFROM:-0400
TZOFFSETTO:-0500
TZNAME:EST
DTSTART:20211107T060000
END:STANDARD
BEGIN:DAYLIGHT
TZOFFSETFROM:-0500
TZOFFSETTO:-0400
TZNAME:EDT
DTSTART:20220313T070000
END:DAYLIGHT
BEGIN:STANDARD
TZOFFSETFROM:-0400
TZOFFSETTO:-0500
TZNAME:EST
DTSTART:20221106T060000
END:STANDARD
BEGIN:DAYLIGHT
TZOFFSETFROM:-0500
TZOFFSETTO:-0400
TZNAME:EDT
DTSTART:20230312T070000
END:DAYLIGHT
BEGIN:STANDARD
TZOFFSETFROM:-0400
TZOFFSETTO:-0500
TZNAME:EST
DTSTART:20231105T060000
END:STANDARD
BEGIN:DAYLIGHT
TZOFFSETFROM:-0500
TZOFFSETTO:-0400
TZNAME:EDT
DTSTART:20240310T070000
END:DAYLIGHT
BEGIN:STANDARD
TZOFFSETFROM:-0400
TZOFFSETTO:-0500
TZNAME:EST
DTSTART:20241103T060000
END:STANDARD
BEGIN:DAYLIGHT
TZOFFSETFROM:-0500
TZOFFSETTO:-0400
TZNAME:EDT
DTSTART:20250309T070000
END:DAYLIGHT
BEGIN:STANDARD
TZOFFSETFROM:-0400
TZOFFSETTO:-0500
TZNAME:EST
DTSTART:20251102T060000
END:STANDARD
BEGIN:DAYLIGHT
TZOFFSETFROM:-0500
TZOFFSETTO:-0400
TZNAME:EDT
DTSTART:20260308T070000
END:DAYLIGHT
BEGIN:STANDARD
TZOFFSETFROM:-0400
TZOFFSETTO:-0500
TZNAME:EST
DTSTART:20261101T060000
END:STANDARD
END:VTIMEZONE
BEGIN:VEVENT
DTSTART;VALUE=DATE:20250526
DTEND;VALUE=DATE:20250527
DTSTAMP:20260425T191618
CREATED:20250326T133507Z
LAST-MODIFIED:20250326T133507Z
UID:16081-1748217600-1748303999@dcts.org
SUMMARY:Memorial Day Holiday - No School
DESCRIPTION:Memorial Day Holiday – No School
URL:https://dcts.org/events/memorial-day-holiday-no-school/
END:VEVENT
BEGIN:VEVENT
DTSTART;VALUE=DATE:20250523
DTEND;VALUE=DATE:20250524
DTSTAMP:20260425T191618
CREATED:20250326T133431Z
LAST-MODIFIED:20250326T133431Z
UID:16078-1747958400-1748044799@dcts.org
SUMMARY:DCTS Talent Show
DESCRIPTION:DCTS Talent Show
URL:https://dcts.org/events/dcts-talent-show/
END:VEVENT
BEGIN:VEVENT
DTSTART;TZID=America/New_York:20250522T183000
DTEND;TZID=America/New_York:20250522T193000
DTSTAMP:20260425T191618
CREATED:20250326T133358Z
LAST-MODIFIED:20250326T133358Z
UID:16075-1747938600-1747942200@dcts.org
SUMMARY:Senior Awards Ceremony
DESCRIPTION:Senior Awards Ceremony
URL:https://dcts.org/events/senior-awards-ceremony/
END:VEVENT
BEGIN:VEVENT
DTSTART;VALUE=DATE:20250521
DTEND;VALUE=DATE:20250522
DTSTAMP:20260425T191618
CREATED:20250326T133249Z
LAST-MODIFIED:20250326T133249Z
UID:16072-1747785600-1747871999@dcts.org
SUMMARY:Keystone Testing
DESCRIPTION:Keystone Testing (Non Testing Students Asynchronous)
URL:https://dcts.org/events/keystone-testing-4/
END:VEVENT
BEGIN:VEVENT
DTSTART;VALUE=DATE:20250520
DTEND;VALUE=DATE:20250521
DTSTAMP:20260425T191618
CREATED:20250326T133221Z
LAST-MODIFIED:20250326T133221Z
UID:16069-1747699200-1747785599@dcts.org
SUMMARY:No School - Act 80
DESCRIPTION:No School – Act 80
URL:https://dcts.org/events/no-school-act-80/
END:VEVENT
BEGIN:VEVENT
DTSTART;VALUE=DATE:20250519
DTEND;VALUE=DATE:20250520
DTSTAMP:20260425T191618
CREATED:20250326T133054Z
LAST-MODIFIED:20250326T133054Z
UID:16065-1747612800-1747699199@dcts.org
SUMMARY:Keystone Testing
DESCRIPTION:Keystone Testing (Non Testing Students Asynchronous)
URL:https://dcts.org/events/keystone-testing-3/
END:VEVENT
BEGIN:VEVENT
DTSTART;VALUE=DATE:20250515
DTEND;VALUE=DATE:20250516
DTSTAMP:20260425T191618
CREATED:20250326T133025Z
LAST-MODIFIED:20250326T133025Z
UID:16062-1747267200-1747353599@dcts.org
SUMMARY:Keystone Testing
DESCRIPTION:Keystone Testing (Non Testing Students Asynchronous)
URL:https://dcts.org/events/keystone-testing-2/
END:VEVENT
BEGIN:VEVENT
DTSTART;TZID=America/New_York:20250514T190000
DTEND;TZID=America/New_York:20250514T210000
DTSTAMP:20260425T191618
CREATED:20250326T132940Z
LAST-MODIFIED:20250326T133143Z
UID:16060-1747249200-1747256400@dcts.org
SUMMARY:JOC Board Meeting
DESCRIPTION:Joint Operating Committee Board Meeting
URL:https://dcts.org/events/keystone-testing/
END:VEVENT
BEGIN:VEVENT
DTSTART;TZID=America/New_York:20250509T180000
DTEND;TZID=America/New_York:20250509T220000
DTSTAMP:20260425T191618
CREATED:20250326T132735Z
LAST-MODIFIED:20250326T132735Z
UID:16057-1746813600-1746828000@dcts.org
SUMMARY:DCTS PROM
DESCRIPTION:DCTS PROM
URL:https://dcts.org/events/dcts-prom/
END:VEVENT
BEGIN:VEVENT
DTSTART;TZID=America/New_York:20250506T180000
DTEND;TZID=America/New_York:20250506T200000
DTSTAMP:20260425T191618
CREATED:20250326T132639Z
LAST-MODIFIED:20250326T132639Z
UID:16054-1746554400-1746561600@dcts.org
SUMMARY:DCTS CO-OP Industry Partnership Appreciation Banquet
DESCRIPTION:DCTS CO-OP Industry Partnership Appreciation Banquet
URL:https://dcts.org/events/dcts-co-op-industry-partnership-appreciation-banquet/
END:VEVENT
BEGIN:VEVENT
DTSTART;TZID=America/New_York:20250502T170000
DTEND;TZID=America/New_York:20250502T220000
DTSTAMP:20260425T191618
CREATED:20250326T132413Z
LAST-MODIFIED:20250326T132449Z
UID:16051-1746205200-1746223200@dcts.org
SUMMARY:DCTS Education Foundation Fundraiser
DESCRIPTION:DCTS Education Foundation Fundraiser at Cassel Vineyards of Hershey
URL:https://dcts.org/events/dcts-education-foundation-fundraiser/
END:VEVENT
BEGIN:VEVENT
DTSTART;VALUE=DATE:20250417
DTEND;VALUE=DATE:20250422
DTSTAMP:20260425T191618
CREATED:20250326T133949Z
LAST-MODIFIED:20250326T133949Z
UID:16099-1744848000-1745279999@dcts.org
SUMMARY:Spring Break - No School
DESCRIPTION:Spring Break – No School
URL:https://dcts.org/events/spring-break-no-school-2/
END:VEVENT
BEGIN:VEVENT
DTSTART;VALUE=DATE:20250416
DTEND;VALUE=DATE:20250417
DTSTAMP:20260425T191618
CREATED:20250326T132229Z
LAST-MODIFIED:20250326T132229Z
UID:16048-1744761600-1744847999@dcts.org
SUMMARY:12th Grade - NOCTI
DESCRIPTION:Practical NOCTI – 12th Grade (10th and 11th Grade Remote Learning\, 9th Grade – No School)
URL:https://dcts.org/events/12th-grade-nocti/
END:VEVENT
BEGIN:VEVENT
DTSTART;TZID=America/New_York:20250409T190000
DTEND;TZID=America/New_York:20250409T210000
DTSTAMP:20260425T191618
CREATED:20250326T132014Z
LAST-MODIFIED:20250326T132042Z
UID:16045-1744225200-1744232400@dcts.org
SUMMARY:JOC Board Meeting
DESCRIPTION:Joint Operating Committee Board Meeting
URL:https://dcts.org/events/joc-board-meeting/
END:VEVENT
BEGIN:VEVENT
DTSTART;VALUE=DATE:20250328
DTEND;VALUE=DATE:20250329
DTSTAMP:20260425T191618
CREATED:20250326T110234Z
LAST-MODIFIED:20250326T110736Z
UID:16039-1743120000-1743206399@dcts.org
SUMMARY:End of 3rd Marking Period
DESCRIPTION:
URL:https://dcts.org/events/end-of-3rd-marking-period/
END:VEVENT
BEGIN:VEVENT
DTSTART;VALUE=DATE:20230606
DTEND;VALUE=DATE:20230607
DTSTAMP:20260425T191618
CREATED:20220119T193437Z
LAST-MODIFIED:20230224T140022Z
UID:7978-1686009600-1686095999@dcts.org
SUMMARY:Graduation
DESCRIPTION:Cap Decoration Guidelines\nWhat to Wear for Graduation 2023\nWhat you need to Know for Graduation 2023
URL:https://dcts.org/events/graduation/
END:VEVENT
BEGIN:VEVENT
DTSTART;VALUE=DATE:20230331
DTEND;VALUE=DATE:20230401
DTSTAMP:20260425T191618
CREATED:20220119T193603Z
LAST-MODIFIED:20221007T183432Z
UID:7986-1680220800-1680307199@dcts.org
SUMMARY:Last Day of 3rd Marking Period
DESCRIPTION:
URL:https://dcts.org/events/last-day-of-3rd-marking-period/
END:VEVENT
BEGIN:VEVENT
DTSTART;VALUE=DATE:20230225
DTEND;VALUE=DATE:20230226
DTSTAMP:20260425T191618
CREATED:20220119T193537Z
LAST-MODIFIED:20221007T183639Z
UID:7984-1677283200-1677369599@dcts.org
SUMMARY:Last Day of 2nd Marking Period
DESCRIPTION:
URL:https://dcts.org/events/last-day-of-2nd-marking-period/
END:VEVENT
BEGIN:VEVENT
DTSTART;VALUE=DATE:20221223
DTEND;VALUE=DATE:20230103
DTSTAMP:20260425T191618
CREATED:20210816T193030Z
LAST-MODIFIED:20221007T181822Z
UID:5971-1671753600-1672703999@dcts.org
SUMMARY:Winter Holiday - No School
DESCRIPTION:
URL:https://dcts.org/events/winter-holiday-no-school/
END:VEVENT
BEGIN:VEVENT
DTSTART;VALUE=DATE:20221123
DTEND;VALUE=DATE:20221129
DTSTAMP:20260425T191618
CREATED:20210816T192914Z
LAST-MODIFIED:20221007T181612Z
UID:5969-1669161600-1669679999@dcts.org
SUMMARY:Thanksgiving Holiday - No School
DESCRIPTION:
URL:https://dcts.org/events/thanksgiving-holiday-no-school-4/
END:VEVENT
BEGIN:VEVENT
DTSTART;VALUE=DATE:20221108
DTEND;VALUE=DATE:20221109
DTSTAMP:20260425T191618
CREATED:20210816T192659Z
LAST-MODIFIED:20221007T174849Z
UID:5959-1667865600-1667951999@dcts.org
SUMMARY:Act 80 Day - No School
DESCRIPTION:
URL:https://dcts.org/events/act-80-day-no-school/
END:VEVENT
BEGIN:VEVENT
DTSTART;VALUE=DATE:20220609
DTEND;VALUE=DATE:20220610
DTSTAMP:20260425T191618
CREATED:20220119T193513Z
LAST-MODIFIED:20221007T172339Z
UID:7982-1654732800-1654819199@dcts.org
SUMMARY:Staff Last Day
DESCRIPTION:
URL:https://dcts.org/events/staff-last-day/
END:VEVENT
BEGIN:VEVENT
DTSTART;VALUE=DATE:20220608
DTEND;VALUE=DATE:20220609
DTSTAMP:20260425T191618
CREATED:20220119T195416Z
LAST-MODIFIED:20220119T195416Z
UID:7997-1654646400-1654732799@dcts.org
SUMMARY:JOC Meeting
DESCRIPTION:
URL:https://dcts.org/events/joc-meeting-3/
END:VEVENT
BEGIN:VEVENT
DTSTART;VALUE=DATE:20220608
DTEND;VALUE=DATE:20220609
DTSTAMP:20260425T191618
CREATED:20220119T193500Z
LAST-MODIFIED:20221007T171815Z
UID:7980-1654646400-1654732799@dcts.org
SUMMARY:Students' Last Day
DESCRIPTION:
URL:https://dcts.org/events/students-last-day/
END:VEVENT
BEGIN:VEVENT
DTSTART;TZID=America/New_York:20220605T080000
DTEND;TZID=America/New_York:20220605T090000
DTSTAMP:20260425T191618
CREATED:20220119T195349Z
LAST-MODIFIED:20221007T175232Z
UID:7995-1654416000-1654419600@dcts.org
SUMMARY:Graduation Practice - Auditorium
DESCRIPTION:
URL:https://dcts.org/events/graduation-practice-auditorium/
END:VEVENT
BEGIN:VEVENT
DTSTART;VALUE=DATE:20220529
DTEND;VALUE=DATE:20220530
DTSTAMP:20260425T191618
CREATED:20220119T193414Z
LAST-MODIFIED:20221007T175638Z
UID:7976-1653782400-1653868799@dcts.org
SUMMARY:Memorial Day - No School
DESCRIPTION:
URL:https://dcts.org/events/memorial-day-no-school/
END:VEVENT
BEGIN:VEVENT
DTSTART;VALUE=DATE:20220527
DTEND;VALUE=DATE:20220528
DTSTAMP:20260425T191618
CREATED:20220119T192346Z
LAST-MODIFIED:20220119T192346Z
UID:7960-1653609600-1653695999@dcts.org
SUMMARY:DCTS 4Diamonds MiniTHON
DESCRIPTION:
URL:https://dcts.org/events/dcts-4diamonds-minithon/
END:VEVENT
BEGIN:VEVENT
DTSTART;VALUE=DATE:20220516
DTEND;VALUE=DATE:20220517
DTSTAMP:20260425T191618
CREATED:20220119T193351Z
LAST-MODIFIED:20221007T174526Z
UID:7974-1652659200-1652745599@dcts.org
SUMMARY:Act 80 Day - No School
DESCRIPTION:
URL:https://dcts.org/events/act-80-day-no-school-3/
END:VEVENT
BEGIN:VEVENT
DTSTART;TZID=America/New_York:20220513T180000
DTEND;TZID=America/New_York:20220513T220000
DTSTAMP:20260425T191618
CREATED:20220307T183727Z
LAST-MODIFIED:20220318T135132Z
UID:8278-1652464800-1652479200@dcts.org
SUMMARY:Prom
DESCRIPTION:
URL:https://dcts.org/events/prom/
LOCATION:Red Lion Hotel Harrisburg Hershey\, 4751 Lindle Rd\, Harrisburg\, PA\, 17111\, United States
END:VEVENT
BEGIN:VEVENT
DTSTART;TZID=America/New_York:20220512T180000
DTEND;TZID=America/New_York:20220512T193000
DTSTAMP:20260425T191618
CREATED:20220214T195117Z
LAST-MODIFIED:20220214T195117Z
UID:8149-1652378400-1652383800@dcts.org
SUMMARY:Industry Partner Banquet
DESCRIPTION:
URL:https://dcts.org/events/industry-partner-banquet/
END:VEVENT
END:VCALENDAR