BEGIN:VCALENDAR
VERSION:2.0
PRODID:-//DCTS - ECPv6.15.19//NONSGML v1.0//EN
CALSCALE:GREGORIAN
METHOD:PUBLISH
X-WR-CALNAME:DCTS
X-ORIGINAL-URL:https://dcts.org
X-WR-CALDESC:Events for DCTS
REFRESH-INTERVAL;VALUE=DURATION:PT1H
X-Robots-Tag:noindex
X-PUBLISHED-TTL:PT1H
BEGIN:VTIMEZONE
TZID:America/New_York
BEGIN:DAYLIGHT
TZOFFSETFROM:-0500
TZOFFSETTO:-0400
TZNAME:EDT
DTSTART:20250309T070000
END:DAYLIGHT
BEGIN:STANDARD
TZOFFSETFROM:-0400
TZOFFSETTO:-0500
TZNAME:EST
DTSTART:20251102T060000
END:STANDARD
BEGIN:DAYLIGHT
TZOFFSETFROM:-0500
TZOFFSETTO:-0400
TZNAME:EDT
DTSTART:20260308T070000
END:DAYLIGHT
BEGIN:STANDARD
TZOFFSETFROM:-0400
TZOFFSETTO:-0500
TZNAME:EST
DTSTART:20261101T060000
END:STANDARD
BEGIN:DAYLIGHT
TZOFFSETFROM:-0500
TZOFFSETTO:-0400
TZNAME:EDT
DTSTART:20270314T070000
END:DAYLIGHT
BEGIN:STANDARD
TZOFFSETFROM:-0400
TZOFFSETTO:-0500
TZNAME:EST
DTSTART:20271107T060000
END:STANDARD
END:VTIMEZONE
BEGIN:VEVENT
DTSTART;TZID=America/New_York:20260319T160000
DTEND;TZID=America/New_York:20260319T200000
DTSTAMP:20260425T093855
CREATED:20260303T190610Z
LAST-MODIFIED:20260303T190649Z
UID:18811-1773936000-1773950400@dcts.org
SUMMARY:DCTS Community Career & Alumni Night
DESCRIPTION: Community Career & Alumni Night \nJoin us for an evening of connection\, opportunity\, and Wolverine pride!\nOur Community Career Fair will bring together local businesses and industry partners to share current and future career opportunities and connect with individuals who are actively exploring the workforce. This portion of the event is open to the public.\nWe’ll also be welcoming back DCTS alumni for Alumni Connections\, featuring guided tours of the school with current students\, opportunities to reconnect\, and information on staying involved through the DCTS Education Foundation.\n\n Thursday\, March 19\, 2026Dauphin County Technical School\, 6001 Locust Lane\, Harrisburg\n4:00pm – 6:00pmCommunity Career EventOpen to the general public and students outside of DCTS\n5:00pm – 8:00pm\nDCTS Alumni Connections Night\nWhether you’re a student\, alum\, job seeker\, or community member\, we invite you to join us for a meaningful night of networking and engagement.\n Please share to help spread the word!\nClick the link below to RSVP for the event!https://forms.office.com/r/jdgHLihTPc 
URL:https://dcts.org/events/dcts-community-career-alumni-night/
LOCATION:Dauphin County Technical School\, 6001 Locust Lane\, Harrisburg\, PA\, 17109\, United States
END:VEVENT
END:VCALENDAR